BEGIN:VCALENDAR
VERSION:2.0
PRODID:-//Pedernales Cellars - ECPv6.15.20//NONSGML v1.0//EN
CALSCALE:GREGORIAN
METHOD:PUBLISH
X-WR-CALNAME:Pedernales Cellars
X-ORIGINAL-URL:https://www.pedernalescellars.com
X-WR-CALDESC:Events for Pedernales Cellars
REFRESH-INTERVAL;VALUE=DURATION:PT1H
X-Robots-Tag:noindex
X-PUBLISHED-TTL:PT1H
BEGIN:VTIMEZONE
TZID:UTC
BEGIN:STANDARD
TZOFFSETFROM:+0000
TZOFFSETTO:+0000
TZNAME:UTC
DTSTART:20240101T000000
END:STANDARD
END:VTIMEZONE
BEGIN:VEVENT
DTSTART;TZID=UTC:20250503T130000
DTEND;TZID=UTC:20250503T170000
DTSTAMP:20260419T211712
CREATED:20250318T150431Z
LAST-MODIFIED:20250318T150431Z
UID:11337-1746277200-1746291600@www.pedernalescellars.com
SUMMARY:Live Music Featuring Bruce Smith
DESCRIPTION:Join us for a live music performance by Bruce Smith while enjoying some wine in the beautiful Texas Hill Country. \nReservations are required for tastings\, which are held inside our tasting room (sorry no pets permitted inside). Patio and lawn seating is also available with first come first serve seating to enjoy a bottle. We have a limited amount of lawn seating so we do permit you to bring your own chairs. \nHave any questions? Don’t hesitate to call 830-644-2037 or email us at tastingroom@pedernalescellars.com\, we will be happy to assist you.
URL:https://www.pedernalescellars.com/event/live-music-featuring-bruce-smith-3/
LOCATION:Texas
CATEGORIES:Live Music
ATTACH;FMTTYPE=image/jpeg:https://www.pedernalescellars.com/wp-content/uploads/2024/09/bruce-music-series.jpg
ORGANIZER;CN="Tasting Room Team":MAILTO:tastingroom@pedernalescellars.com
END:VEVENT
BEGIN:VEVENT
DTSTART;TZID=UTC:20250510T130000
DTEND;TZID=UTC:20250510T170000
DTSTAMP:20260419T211712
CREATED:20250318T151846Z
LAST-MODIFIED:20250318T151846Z
UID:11346-1746882000-1746896400@www.pedernalescellars.com
SUMMARY:Live Music Featuring Bruce Salmon
DESCRIPTION:Join us for a live music performance by Bruce Salmon while enjoying some wine in the beautiful Texas Hill Country. \nReservations are required for tastings\, which are held inside our tasting room (sorry no pets permitted inside). Patio and lawn seating is also available with first come first serve seating to enjoy a bottle. We have a limited amount of lawn seating so we do permit you to bring your own chairs. \nHave any questions? Don’t hesitate to call 830-644-2037 or email us at tastingroom@pedernalescellars.com\, we will be happy to assist you.
URL:https://www.pedernalescellars.com/event/live-music-featuring-bruce-salmon/
LOCATION:Texas
CATEGORIES:Live Music
ATTACH;FMTTYPE=image/jpeg:https://www.pedernalescellars.com/wp-content/uploads/2025/03/bruce-salmon.jpg
ORGANIZER;CN="Tasting Room Team":MAILTO:tastingroom@pedernalescellars.com
END:VEVENT
BEGIN:VEVENT
DTSTART;VALUE=DATE:20250517
DTEND;VALUE=DATE:20250518
DTSTAMP:20260419T211712
CREATED:20250325T204921Z
LAST-MODIFIED:20250325T211727Z
UID:11385-1747440000-1747526399@www.pedernalescellars.com
SUMMARY:KÖ Blind Tasting
DESCRIPTION:Join us for the annual spring tasting of our exclusive K-Ö wines with select vintages from 2012 to the present to discuss what happens to wine at various stages in the aging process. We will taste the wines blind\, and discuss how different wines age. Prizes for the best tasting notes and answers! The tasting will be led by owner Dr. Julie\, and will be accompanied by charcuterie plates. Join us for this fun way of diving into our unique K-Ö wines. \nTwo sessions are available at 11:00 AM and 2:00 PM.  Session seating is limited to 30 people per session. \nComplimentary for K-Ö Members$45 for members (plus your wine club discount)*log into Tock with the email on your membership to ensure your discount* \n					\n									Book now
URL:https://www.pedernalescellars.com/event/ko-blind-tasting/
LOCATION:Pedernales Cellars\, 2916 Upper Albert Rd\, Stonewall\, TX\, 78671\, United States
ATTACH;FMTTYPE=image/jpeg:https://www.pedernalescellars.com/wp-content/uploads/2025/03/KO-blind-tasting-scaled.jpg
ORGANIZER;CN="Tasting Room Team":MAILTO:tastingroom@pedernalescellars.com
END:VEVENT
BEGIN:VEVENT
DTSTART;TZID=UTC:20250517T130000
DTEND;TZID=UTC:20250517T130000
DTSTAMP:20260419T211712
CREATED:20250318T150933Z
LAST-MODIFIED:20250318T151335Z
UID:11339-1747486800-1747486800@www.pedernalescellars.com
SUMMARY:Live Music Featuring Josh Peek
DESCRIPTION:Join us for a live music performance by Josh Peek while enjoying some wine in the beautiful Texas Hill Country. \nReservations are required for tastings\, which are held inside our tasting room (sorry no pets permitted inside). Patio and lawn seating is also available with first come first serve seating to enjoy a bottle. We have a limited amount of lawn seating so we do permit you to bring your own chairs. \nHave any questions? Don’t hesitate to call 830-644-2037 or email us at tastingroom@pedernalescellars.com\, we will be happy to assist you.
URL:https://www.pedernalescellars.com/event/live-music-featuring-josh-peek-2/
LOCATION:Texas
CATEGORIES:Live Music
ATTACH;FMTTYPE=image/jpeg:https://www.pedernalescellars.com/wp-content/uploads/2025/02/Josh-Peek-e1739822630657.jpg
ORGANIZER;CN="Tasting Room Team":MAILTO:tastingroom@pedernalescellars.com
END:VEVENT
BEGIN:VEVENT
DTSTART;TZID=UTC:20250524T130000
DTEND;TZID=UTC:20250524T170000
DTSTAMP:20260419T211712
CREATED:20250318T151025Z
LAST-MODIFIED:20250318T151025Z
UID:11344-1748091600-1748106000@www.pedernalescellars.com
SUMMARY:Live Music Featuring Jake Martin
DESCRIPTION:Join us for a live music performance by Jake Martin while enjoying some wine in the beautiful Texas Hill Country. \nReservations are required for tastings\, which are held inside our tasting room (sorry no pets permitted inside). Patio and lawn seating is also available with first come first serve seating to enjoy a bottle. We have a limited amount of lawn seating so we do permit you to bring your own chairs. \nHave any questions? Don’t hesitate to call 830-644-2037 or email us at tastingroom@pedernalescellars.com\, we will be happy to assist you.
URL:https://www.pedernalescellars.com/event/live-music-featuring-jake-martin-3/
LOCATION:Texas
CATEGORIES:Live Music
ATTACH;FMTTYPE=image/jpeg:https://www.pedernalescellars.com/wp-content/uploads/2024/09/jakemartin.jpg
ORGANIZER;CN="Tasting Room Team":MAILTO:tastingroom@pedernalescellars.com
END:VEVENT
BEGIN:VEVENT
DTSTART;TZID=UTC:20250531T130000
DTEND;TZID=UTC:20250531T170000
DTSTAMP:20260419T211712
CREATED:20250318T150820Z
LAST-MODIFIED:20250318T150820Z
UID:11341-1748696400-1748710800@www.pedernalescellars.com
SUMMARY:Live Music Featuring James Hearne
DESCRIPTION:Join us for a live music performance by James Hearne while enjoying some wine in the beautiful Texas Hill Country. \nReservations are required for tastings\, which are held inside our tasting room (sorry no pets permitted inside). Patio and lawn seating is also available with first come first serve seating to enjoy a bottle. We have a limited amount of lawn seating so we do permit you to bring your own chairs. \nHave any questions? Don’t hesitate to call 830-644-2037 or email us at tastingroom@pedernalescellars.com\, we will be happy to assist you. \n 
URL:https://www.pedernalescellars.com/event/live-music-featuring-james-hearne-2/
LOCATION:Texas
CATEGORIES:Live Music
ATTACH;FMTTYPE=image/jpeg:https://www.pedernalescellars.com/wp-content/uploads/2025/03/james-hearne-scaled-e1742309845530.jpg
ORGANIZER;CN="Tasting Room Team":MAILTO:tastingroom@pedernalescellars.com
END:VEVENT
END:VCALENDAR