BEGIN:VCALENDAR
VERSION:2.0
PRODID:-//Pedernales Cellars - ECPv6.15.20//NONSGML v1.0//EN
CALSCALE:GREGORIAN
METHOD:PUBLISH
X-ORIGINAL-URL:https://www.pedernalescellars.com
X-WR-CALDESC:Events for Pedernales Cellars
REFRESH-INTERVAL;VALUE=DURATION:PT1H
X-Robots-Tag:noindex
X-PUBLISHED-TTL:PT1H
BEGIN:VTIMEZONE
TZID:America/Chicago
BEGIN:DAYLIGHT
TZOFFSETFROM:-0600
TZOFFSETTO:-0500
TZNAME:CDT
DTSTART:20230312T080000
END:DAYLIGHT
BEGIN:STANDARD
TZOFFSETFROM:-0500
TZOFFSETTO:-0600
TZNAME:CST
DTSTART:20231105T070000
END:STANDARD
BEGIN:DAYLIGHT
TZOFFSETFROM:-0600
TZOFFSETTO:-0500
TZNAME:CDT
DTSTART:20240310T080000
END:DAYLIGHT
BEGIN:STANDARD
TZOFFSETFROM:-0500
TZOFFSETTO:-0600
TZNAME:CST
DTSTART:20241103T070000
END:STANDARD
BEGIN:DAYLIGHT
TZOFFSETFROM:-0600
TZOFFSETTO:-0500
TZNAME:CDT
DTSTART:20250309T080000
END:DAYLIGHT
BEGIN:STANDARD
TZOFFSETFROM:-0500
TZOFFSETTO:-0600
TZNAME:CST
DTSTART:20251102T070000
END:STANDARD
END:VTIMEZONE
BEGIN:VEVENT
DTSTART;VALUE=DATE:20241208
DTEND;VALUE=DATE:20241209
DTSTAMP:20260419T133512
CREATED:20240926T120011Z
LAST-MODIFIED:20241102T155444Z
UID:10844-1733616000-1733702399@www.pedernalescellars.com
SUMMARY:A Family Affair - Release Party
DESCRIPTION:Join us for ” A Family Affair” wine tasting. The Family Reserve is taking over the tasting room on Sunday\, December 8 from 10 am – 5 pm!  We will pour six different vintages of The Family Reserve: 2019\, 2020\, and the latest release 2021. We are also opening up the Wine Library to pour The Family Reserve from 2013\, 2014\, and 2015!  Do not miss the chance to taste these delicious wines that are aging beautifully. Make your reservation for the tasting today. Tastings are available on the hour and half hour. \nDecember 8 is also our birthday! JoJu bakery will be selling their awesome handmade pizzas\, including a special Birthday Pizza! \n					\n									Book Now
URL:https://www.pedernalescellars.com/event/a-family-affair-release-party/
LOCATION:Texas
ATTACH;FMTTYPE=image/jpeg:https://www.pedernalescellars.com/wp-content/uploads/2024/10/2014-and-2015-Texas-Family-Reserve-holiday-1-scaled.jpg
ORGANIZER;CN="Amy Sutton%2C Wine Club Manager":MAILTO:tastingroom@pedernalescellars.com
END:VEVENT
END:VCALENDAR