BEGIN:VCALENDAR
VERSION:2.0
PRODID:-//Pedernales Cellars - ECPv6.15.20//NONSGML v1.0//EN
CALSCALE:GREGORIAN
METHOD:PUBLISH
X-ORIGINAL-URL:https://www.pedernalescellars.com
X-WR-CALDESC:Events for Pedernales Cellars
REFRESH-INTERVAL;VALUE=DURATION:PT1H
X-Robots-Tag:noindex
X-PUBLISHED-TTL:PT1H
BEGIN:VTIMEZONE
TZID:UTC
BEGIN:STANDARD
TZOFFSETFROM:+0000
TZOFFSETTO:+0000
TZNAME:UTC
DTSTART:20250101T000000
END:STANDARD
END:VTIMEZONE
BEGIN:VEVENT
DTSTART;VALUE=DATE:20260323
DTEND;VALUE=DATE:20260425
DTSTAMP:20260420T003542
CREATED:20260323T181255Z
LAST-MODIFIED:20260323T181255Z
UID:12619-1774224000-1777075199@www.pedernalescellars.com
SUMMARY:Wine and Wildflower Journey Passport
DESCRIPTION:The weather is warm\, the wildflowers are in bloom and it’s time for the Wine & Wildflower Journey! We invite you to join us this spring from March 23 – April 24\, 2026. in the picturesque Texas Hill Country\, sipping and sampling award winning wines at unique Hill Country Wineries. Savor all that Texas Wine Country has to offer this Spring and join us for one day or all twenty-six on this self-guided tour. \nTICKETS HERE
URL:https://www.pedernalescellars.com/event/wine-and-wildflower-journey-passport/
LOCATION:TX
ATTACH;FMTTYPE=image/png:https://www.pedernalescellars.com/wp-content/uploads/2026/03/wwj-26-3-2.png
END:VEVENT
BEGIN:VEVENT
DTSTART;TZID=UTC:20260328T140000
DTEND;TZID=UTC:20260328T190000
DTSTAMP:20260420T003542
CREATED:20260307T204446Z
LAST-MODIFIED:20260307T204446Z
UID:12591-1774706400-1774724400@www.pedernalescellars.com
SUMMARY:Rootstock 2026
DESCRIPTION:Pedernales Cellars will be pouring at the annual Rootstock event in Waco\, Texas. We hope you stop by to see us!
URL:https://www.pedernalescellars.com/event/rootstock-2026/
LOCATION:The Earle Harrison House & Pape Gardens\, 1901 N 5th Street\, Waco\, TX\, 76708\, United States
ATTACH;FMTTYPE=image/png:https://www.pedernalescellars.com/wp-content/uploads/2026/03/Rootstock-26-Logo.png
END:VEVENT
BEGIN:VEVENT
DTSTART;TZID=UTC:20260404T130000
DTEND;TZID=UTC:20260404T160000
DTSTAMP:20260420T003542
CREATED:20260321T182316Z
LAST-MODIFIED:20260321T182316Z
UID:12608-1775307600-1775318400@www.pedernalescellars.com
SUMMARY:Live Music with Bruce Smith
DESCRIPTION:
URL:https://www.pedernalescellars.com/event/live-music-with-bruce-smith/
LOCATION:TX
CATEGORIES:Live Music
ATTACH;FMTTYPE=image/jpeg:https://www.pedernalescellars.com/wp-content/uploads/2026/03/E83B2B1D-652F-4B9A-B8AF-78A47E103916.JPG-nggid03118-ngg0dyn-240x240x100-00f0w010c011r110f110r010t010.jpg
END:VEVENT
BEGIN:VEVENT
DTSTART;TZID=UTC:20260410T170000
DTEND;TZID=UTC:20260410T200000
DTSTAMP:20260420T003542
CREATED:20260321T183300Z
LAST-MODIFIED:20260324T202312Z
UID:12612-1775840400-1775851200@www.pedernalescellars.com
SUMMARY:Rhone Rangers Tasting\, Houston
DESCRIPTION:Join Pedernales Cellars and the Rhone Rangers for a Houston area tasting. Media and trade from 12-3\, public from 5-8pm. Tickets available at https://www.exploretock.com/decant-urban-winery/event/590682/2026-rhone-rangers-tasting
URL:https://www.pedernalescellars.com/event/rhone-rangers-tasting-houston/
LOCATION:Decant Urban Winery\, Houston\, TX\, 948 Wakefield Drive\, Houston\, TX\, 77018\, United States
CATEGORIES:Educational
ATTACH;FMTTYPE=image/png:https://www.pedernalescellars.com/wp-content/uploads/2026/03/Houston-Consumer-2026-2.png
END:VEVENT
BEGIN:VEVENT
DTSTART;TZID=UTC:20260411T130000
DTEND;TZID=UTC:20260411T160000
DTSTAMP:20260420T003542
CREATED:20260321T182428Z
LAST-MODIFIED:20260321T182428Z
UID:12610-1775912400-1775923200@www.pedernalescellars.com
SUMMARY:Live Music with Jake Martin
DESCRIPTION:
URL:https://www.pedernalescellars.com/event/live-music-with-jake-martin-3/
LOCATION:TX
CATEGORIES:Live Music
ATTACH;FMTTYPE=image/jpeg:https://www.pedernalescellars.com/wp-content/uploads/2026/03/jakemartin-300x169-copy-1.jpg
END:VEVENT
BEGIN:VEVENT
DTSTART;TZID=UTC:20260411T170000
DTEND;TZID=UTC:20260411T210000
DTSTAMP:20260420T003542
CREATED:20260325T210754Z
LAST-MODIFIED:20260325T210754Z
UID:12654-1775926800-1775941200@www.pedernalescellars.com
SUMMARY:Fork + Fire (Fort Worth Food and Wine Festival)
DESCRIPTION:Pedernales Cellars will be pouring wine at the Fork + Fire event at Fort Worth Food and Wine Festival. Link
URL:https://www.pedernalescellars.com/event/fork-fire-fort-worth-food-and-wine-festival/
LOCATION:Heart of the Ranch at Clearfork\, 5000 Clearfork Main Street \, TX\, Fort Worth\, Texas\, 76109
ATTACH;FMTTYPE=image/png:https://www.pedernalescellars.com/wp-content/uploads/2026/03/Screenshot-108-copy.png
END:VEVENT
BEGIN:VEVENT
DTSTART;VALUE=DATE:20260418
DTEND;VALUE=DATE:20260419
DTSTAMP:20260420T003542
CREATED:20260325T160808Z
LAST-MODIFIED:20260325T160808Z
UID:12652-1776470400-1776556799@www.pedernalescellars.com
SUMMARY:Spring Release Party
DESCRIPTION:We invite you to join us for a day of delicious food\, great wine\, and even better friends! On Saturday\, April 18th\, Pedernales Cellars will host our annual Spring Release Party\, and we can’t wait to celebrate with you.\n\nHere’s a taste of what to expect:\n\nLive Music\nPaella\nArtisan Paletas\n“All About Carignan” in the Cellar with Dr. Julie\nWine Tasting Stations featuring the release of 2022 Tempranillo Reserve and 2022 Carignan\nIncredible Deals\nBarrels Available for Sale!\n\nWe hope you can join us for this special day. Find all the details for the day at the link below\, and please RSVP so we can have an accurate guest count for the day.\n\nDETAILS HERE
URL:https://www.pedernalescellars.com/event/spring-release-party/
LOCATION:TX
CATEGORIES:Wine Club
ATTACH;FMTTYPE=image/jpeg:https://www.pedernalescellars.com/wp-content/uploads/2026/03/trio.jpg
END:VEVENT
END:VCALENDAR