BEGIN:VCALENDAR
VERSION:2.0
PRODID:-//Pedernales Cellars - ECPv6.15.20//NONSGML v1.0//EN
CALSCALE:GREGORIAN
METHOD:PUBLISH
X-WR-CALNAME:Pedernales Cellars
X-ORIGINAL-URL:https://www.pedernalescellars.com
X-WR-CALDESC:Events for Pedernales Cellars
REFRESH-INTERVAL;VALUE=DURATION:PT1H
X-Robots-Tag:noindex
X-PUBLISHED-TTL:PT1H
BEGIN:VTIMEZONE
TZID:UTC
BEGIN:STANDARD
TZOFFSETFROM:+0000
TZOFFSETTO:+0000
TZNAME:UTC
DTSTART:20240101T000000
END:STANDARD
END:VTIMEZONE
BEGIN:VEVENT
DTSTART;TZID=UTC:20251025T130000
DTEND;TZID=UTC:20251025T170000
DTSTAMP:20260419T211330
CREATED:20250805T153220Z
LAST-MODIFIED:20250805T153220Z
UID:11623-1761397200-1761411600@www.pedernalescellars.com
SUMMARY:Live Music Featuring Beth Lee
DESCRIPTION:
URL:https://www.pedernalescellars.com/event/live-music-featuring-beth-lee-5/
CATEGORIES:Live Music
ATTACH;FMTTYPE=image/jpeg:https://www.pedernalescellars.com/wp-content/uploads/2025/03/beth-lee-2-scaled-e1741464455737.jpg
ORGANIZER;CN="Tasting Room Team":MAILTO:tastingroom@pedernalescellars.com
END:VEVENT
BEGIN:VEVENT
DTSTART;TZID=UTC:20251101T130000
DTEND;TZID=UTC:20251101T170000
DTSTAMP:20260419T211330
CREATED:20250804T203346Z
LAST-MODIFIED:20250804T203346Z
UID:11602-1762002000-1762016400@www.pedernalescellars.com
SUMMARY:Live Music Featuring Bruce Salmon
DESCRIPTION:Join us for a live music performance by Bruce Salmon while enjoying some wine in the beautiful Texas Hill Country.
URL:https://www.pedernalescellars.com/event/live-music-featuring-bruce-salmon-2/
CATEGORIES:Live Music
ATTACH;FMTTYPE=image/jpeg:https://www.pedernalescellars.com/wp-content/uploads/2025/03/bruce-salmon.jpg
ORGANIZER;CN="Tasting Room Team":MAILTO:tastingroom@pedernalescellars.com
END:VEVENT
BEGIN:VEVENT
DTSTART;TZID=UTC:20251108T120000
DTEND;TZID=UTC:20251108T160000
DTSTAMP:20260419T211330
CREATED:20251101T161406Z
LAST-MODIFIED:20251101T162017Z
UID:11879-1762603200-1762617600@www.pedernalescellars.com
SUMMARY:Live Music - Jeremy Parsons
DESCRIPTION:
URL:https://www.pedernalescellars.com/event/live-music-jeremy-parsons-3/
ATTACH;FMTTYPE=image/jpeg:https://www.pedernalescellars.com/wp-content/uploads/2024/09/jeremyparsons.jpg
ORGANIZER;CN="Tasting Room Team":MAILTO:tastingroom@pedernalescellars.com
END:VEVENT
BEGIN:VEVENT
DTSTART;TZID=UTC:20251122T130000
DTEND;TZID=UTC:20251122T160000
DTSTAMP:20260419T211330
CREATED:20251121T163137Z
LAST-MODIFIED:20251121T163137Z
UID:11889-1763816400-1763827200@www.pedernalescellars.com
SUMMARY:Live Music Featuring JJ Poyatos
DESCRIPTION:
URL:https://www.pedernalescellars.com/event/live-music-featuring-jj-poyatos/
CATEGORIES:Live Music
ATTACH;FMTTYPE=image/jpeg:https://www.pedernalescellars.com/wp-content/uploads/2025/11/qtq80-wuibpX.jpeg
ORGANIZER;CN="Tasting Room Team":MAILTO:tastingroom@pedernalescellars.com
END:VEVENT
BEGIN:VEVENT
DTSTART;TZID=UTC:20251129T120000
DTEND;TZID=UTC:20251129T160000
DTSTAMP:20260419T211330
CREATED:20251101T161827Z
LAST-MODIFIED:20251101T161827Z
UID:11882-1764417600-1764432000@www.pedernalescellars.com
SUMMARY:Live Music Featuring Bruce Smith
DESCRIPTION:
URL:https://www.pedernalescellars.com/event/live-music-featuring-bruce-smith-9/
CATEGORIES:Live Music
ATTACH;FMTTYPE=image/jpeg:https://www.pedernalescellars.com/wp-content/uploads/2024/09/bruce-music-series.jpg
ORGANIZER;CN="Tasting Room Team":MAILTO:tastingroom@pedernalescellars.com
END:VEVENT
BEGIN:VEVENT
DTSTART;TZID=UTC:20251206T120000
DTEND;TZID=UTC:20251206T160000
DTSTAMP:20260419T211330
CREATED:20251101T161907Z
LAST-MODIFIED:20251101T161907Z
UID:11883-1765022400-1765036800@www.pedernalescellars.com
SUMMARY:Live Music Featuring Josh Peek
DESCRIPTION:
URL:https://www.pedernalescellars.com/event/live-music-featuring-josh-peek-6/
CATEGORIES:Live Music
ATTACH;FMTTYPE=image/jpeg:https://www.pedernalescellars.com/wp-content/uploads/2025/02/Josh-Peek-e1739822630657.jpg
ORGANIZER;CN="Tasting Room Team":MAILTO:tastingroom@pedernalescellars.com
END:VEVENT
BEGIN:VEVENT
DTSTART;VALUE=DATE:20260202
DTEND;VALUE=DATE:20260302
DTSTAMP:20260419T211330
CREATED:20260124T212737Z
LAST-MODIFIED:20260124T212737Z
UID:12542-1769990400-1772409599@www.pedernalescellars.com
SUMMARY:Texas Fine Wine Club Share
DESCRIPTION:We are partnering with our friends at Texas Fine Wine to offer some extra special club benefits in February. Members at each of the four Texas Fine Wine wineries will receive “member for a day” status at all four locations. Check the link below for more details. \nTexas Fine Wine Club Share Link \n 
URL:https://www.pedernalescellars.com/event/texas-fine-wine-club-share/
LOCATION:Pedernales Cellars\, 2916 Upper Albert Rd\, Stonewall\, TX\, 78671\, United States
CATEGORIES:Wine Club
ATTACH;FMTTYPE=image/jpeg:https://www.pedernalescellars.com/wp-content/uploads/2026/01/222222-copy-scaled.jpg
END:VEVENT
BEGIN:VEVENT
DTSTART;VALUE=DATE:20260214
DTEND;VALUE=DATE:20260216
DTSTAMP:20260419T211330
CREATED:20260121T214517Z
LAST-MODIFIED:20260121T214518Z
UID:12403-1771027200-1771199999@www.pedernalescellars.com
SUMMARY:BBQ Bites & Wine: February Club Release
DESCRIPTION:Join us for our February Wine Club Release Party! We will be pairing delicious bites of Texas BBQ with Pedernales wines. This is a seated event\, so reserve your spot today! \nCLICK HERE FOR RESERVATIONS!
URL:https://www.pedernalescellars.com/event/bbq-bites-wine-february-club-release/
LOCATION:Pedernales Cellars\, 2916 Upper Albert Rd\, Stonewall\, TX\, 78671\, United States
CATEGORIES:Release
ATTACH;FMTTYPE=image/jpeg:https://www.pedernalescellars.com/wp-content/uploads/2026/01/bbq-scaled.jpg
ORGANIZER;CN="Tasting Room Team":MAILTO:tastingroom@pedernalescellars.com
END:VEVENT
BEGIN:VEVENT
DTSTART;VALUE=DATE:20260228
DTEND;VALUE=DATE:20260301
DTSTAMP:20260419T211330
CREATED:20260121T223107Z
LAST-MODIFIED:20260121T223107Z
UID:12409-1772236800-1772323199@www.pedernalescellars.com
SUMMARY:GSM Blending Event - A Desert Willow Dialogue
DESCRIPTION:Join winemaker Thys Smit to discuss the value of sustainable farming practices and learn about the blending process for one of our perennial favorites- GSM Mélange. \nRESERVE YOUR SEATS HERE
URL:https://www.pedernalescellars.com/event/gsm-blending-event-a-desert-willow-dialogue/
CATEGORIES:Educational
ATTACH;FMTTYPE=image/jpeg:https://www.pedernalescellars.com/wp-content/uploads/2026/01/blending-event-crop-scaled.jpg
END:VEVENT
BEGIN:VEVENT
DTSTART;TZID=UTC:20260314T130000
DTEND;TZID=UTC:20260314T163000
DTSTAMP:20260419T211330
CREATED:20260307T203608Z
LAST-MODIFIED:20260307T205755Z
UID:12586-1773493200-1773505800@www.pedernalescellars.com
SUMMARY:Live Music with Jake Martin
DESCRIPTION:
URL:https://www.pedernalescellars.com/event/live-music-with-jake-martin-2/
CATEGORIES:Live Music
ATTACH;FMTTYPE=image/jpeg:https://www.pedernalescellars.com/wp-content/uploads/2026/03/jakemartin-300x169-copy-1.jpg
END:VEVENT
BEGIN:VEVENT
DTSTART;TZID=UTC:20260321T130000
DTEND;TZID=UTC:20260321T163000
DTSTAMP:20260419T211330
CREATED:20260307T203759Z
LAST-MODIFIED:20260307T205446Z
UID:12588-1774098000-1774110600@www.pedernalescellars.com
SUMMARY:Live Music with Josh Peek
DESCRIPTION:
URL:https://www.pedernalescellars.com/event/live-music-with-josh-peek/
CATEGORIES:Live Music
ATTACH;FMTTYPE=image/jpeg:https://www.pedernalescellars.com/wp-content/uploads/2026/03/Josh-Peek-1-225x300-copy.jpg
END:VEVENT
BEGIN:VEVENT
DTSTART;VALUE=DATE:20260323
DTEND;VALUE=DATE:20260425
DTSTAMP:20260419T211330
CREATED:20260323T181255Z
LAST-MODIFIED:20260323T181255Z
UID:12619-1774224000-1777075199@www.pedernalescellars.com
SUMMARY:Wine and Wildflower Journey Passport
DESCRIPTION:The weather is warm\, the wildflowers are in bloom and it’s time for the Wine & Wildflower Journey! We invite you to join us this spring from March 23 – April 24\, 2026. in the picturesque Texas Hill Country\, sipping and sampling award winning wines at unique Hill Country Wineries. Savor all that Texas Wine Country has to offer this Spring and join us for one day or all twenty-six on this self-guided tour. \nTICKETS HERE
URL:https://www.pedernalescellars.com/event/wine-and-wildflower-journey-passport/
ATTACH;FMTTYPE=image/png:https://www.pedernalescellars.com/wp-content/uploads/2026/03/wwj-26-3-2.png
END:VEVENT
BEGIN:VEVENT
DTSTART;TZID=UTC:20260328T140000
DTEND;TZID=UTC:20260328T190000
DTSTAMP:20260419T211330
CREATED:20260307T204446Z
LAST-MODIFIED:20260307T204446Z
UID:12591-1774706400-1774724400@www.pedernalescellars.com
SUMMARY:Rootstock 2026
DESCRIPTION:Pedernales Cellars will be pouring at the annual Rootstock event in Waco\, Texas. We hope you stop by to see us!
URL:https://www.pedernalescellars.com/event/rootstock-2026/
LOCATION:The Earle Harrison House & Pape Gardens\, 1901 N 5th Street\, Waco\, TX\, 76708\, United States
ATTACH;FMTTYPE=image/png:https://www.pedernalescellars.com/wp-content/uploads/2026/03/Rootstock-26-Logo.png
END:VEVENT
BEGIN:VEVENT
DTSTART;TZID=UTC:20260404T130000
DTEND;TZID=UTC:20260404T160000
DTSTAMP:20260419T211330
CREATED:20260321T182316Z
LAST-MODIFIED:20260321T182316Z
UID:12608-1775307600-1775318400@www.pedernalescellars.com
SUMMARY:Live Music with Bruce Smith
DESCRIPTION:
URL:https://www.pedernalescellars.com/event/live-music-with-bruce-smith/
CATEGORIES:Live Music
ATTACH;FMTTYPE=image/jpeg:https://www.pedernalescellars.com/wp-content/uploads/2026/03/E83B2B1D-652F-4B9A-B8AF-78A47E103916.JPG-nggid03118-ngg0dyn-240x240x100-00f0w010c011r110f110r010t010.jpg
END:VEVENT
BEGIN:VEVENT
DTSTART;TZID=UTC:20260410T170000
DTEND;TZID=UTC:20260410T200000
DTSTAMP:20260419T211330
CREATED:20260321T183300Z
LAST-MODIFIED:20260324T202312Z
UID:12612-1775840400-1775851200@www.pedernalescellars.com
SUMMARY:Rhone Rangers Tasting\, Houston
DESCRIPTION:Join Pedernales Cellars and the Rhone Rangers for a Houston area tasting. Media and trade from 12-3\, public from 5-8pm. Tickets available at https://www.exploretock.com/decant-urban-winery/event/590682/2026-rhone-rangers-tasting
URL:https://www.pedernalescellars.com/event/rhone-rangers-tasting-houston/
LOCATION:Decant Urban Winery\, Houston\, TX\, 948 Wakefield Drive\, Houston\, TX\, 77018\, United States
CATEGORIES:Educational
ATTACH;FMTTYPE=image/png:https://www.pedernalescellars.com/wp-content/uploads/2026/03/Houston-Consumer-2026-2.png
END:VEVENT
BEGIN:VEVENT
DTSTART;TZID=UTC:20260411T130000
DTEND;TZID=UTC:20260411T160000
DTSTAMP:20260419T211330
CREATED:20260321T182428Z
LAST-MODIFIED:20260321T182428Z
UID:12610-1775912400-1775923200@www.pedernalescellars.com
SUMMARY:Live Music with Jake Martin
DESCRIPTION:
URL:https://www.pedernalescellars.com/event/live-music-with-jake-martin-3/
CATEGORIES:Live Music
ATTACH;FMTTYPE=image/jpeg:https://www.pedernalescellars.com/wp-content/uploads/2026/03/jakemartin-300x169-copy-1.jpg
END:VEVENT
BEGIN:VEVENT
DTSTART;TZID=UTC:20260411T170000
DTEND;TZID=UTC:20260411T210000
DTSTAMP:20260419T211330
CREATED:20260325T210754Z
LAST-MODIFIED:20260325T210754Z
UID:12654-1775926800-1775941200@www.pedernalescellars.com
SUMMARY:Fork + Fire (Fort Worth Food and Wine Festival)
DESCRIPTION:Pedernales Cellars will be pouring wine at the Fork + Fire event at Fort Worth Food and Wine Festival. Link
URL:https://www.pedernalescellars.com/event/fork-fire-fort-worth-food-and-wine-festival/
LOCATION:Heart of the Ranch at Clearfork\, 5000 Clearfork Main Street \, TX\, Fort Worth\, Texas\, 76109
ATTACH;FMTTYPE=image/png:https://www.pedernalescellars.com/wp-content/uploads/2026/03/Screenshot-108-copy.png
END:VEVENT
BEGIN:VEVENT
DTSTART;VALUE=DATE:20260418
DTEND;VALUE=DATE:20260419
DTSTAMP:20260419T211330
CREATED:20260325T160808Z
LAST-MODIFIED:20260325T160808Z
UID:12652-1776470400-1776556799@www.pedernalescellars.com
SUMMARY:Spring Release Party
DESCRIPTION:We invite you to join us for a day of delicious food\, great wine\, and even better friends! On Saturday\, April 18th\, Pedernales Cellars will host our annual Spring Release Party\, and we can’t wait to celebrate with you.\n\nHere’s a taste of what to expect:\n\nLive Music\nPaella\nArtisan Paletas\n“All About Carignan” in the Cellar with Dr. Julie\nWine Tasting Stations featuring the release of 2022 Tempranillo Reserve and 2022 Carignan\nIncredible Deals\nBarrels Available for Sale!\n\nWe hope you can join us for this special day. Find all the details for the day at the link below\, and please RSVP so we can have an accurate guest count for the day.\n\nDETAILS HERE
URL:https://www.pedernalescellars.com/event/spring-release-party/
CATEGORIES:Wine Club
ATTACH;FMTTYPE=image/jpeg:https://www.pedernalescellars.com/wp-content/uploads/2026/03/trio.jpg
END:VEVENT
END:VCALENDAR