BEGIN:VCALENDAR
VERSION:2.0
PRODID:-//Pedernales Cellars - ECPv6.15.20//NONSGML v1.0//EN
CALSCALE:GREGORIAN
METHOD:PUBLISH
X-WR-CALNAME:Pedernales Cellars
X-ORIGINAL-URL:https://www.pedernalescellars.com
X-WR-CALDESC:Events for Pedernales Cellars
REFRESH-INTERVAL;VALUE=DURATION:PT1H
X-Robots-Tag:noindex
X-PUBLISHED-TTL:PT1H
BEGIN:VTIMEZONE
TZID:UTC
BEGIN:STANDARD
TZOFFSETFROM:+0000
TZOFFSETTO:+0000
TZNAME:UTC
DTSTART:20230101T000000
END:STANDARD
END:VTIMEZONE
BEGIN:VEVENT
DTSTART;VALUE=DATE:20240921
DTEND;VALUE=DATE:20240923
DTSTAMP:20260420T024544
CREATED:20240919T230329Z
LAST-MODIFIED:20240919T230832Z
UID:10700-1726876800-1727049599@www.pedernalescellars.com
SUMMARY:Seriously Texas Wine & Cheese Tasting Room Takeover
DESCRIPTION:Join us and our friends from Otto’s Cheese Shop for a fun and delicious Texas Wine and Cheese pairing! Rachel and Bob\, the owners of Otto’s Cheese Shop in New Braunfels\, are as passionate about Texas cheese as we are about Texas wine! We have paired four of our September release wines with cheeses from four different Texas cheesemakers. This is an experience you don’t want to miss! \nSaturday\, September 21 & Sunday\, September 22\n$30 / person\nWine Club Members receive a 50% discount for this experience! \nIf you have any questions\, please call us at 830-644-2037 or email events@pedernalescellars.com and we’d be happy to help!
URL:https://www.pedernalescellars.com/event/seriously-texas-wine-cheese-tasting-room-takeover/
LOCATION:Pedernales Cellars\, 2916 Upper Albert Rd\, Stonewall\, TX\, 78671\, United States
ATTACH;FMTTYPE=image/jpeg:https://www.pedernalescellars.com/wp-content/uploads/2024/09/camille-brodard-f6Wpz1QPFZI-unsplash-scaled.jpg
ORGANIZER;CN="Amy Sutton%2C Wine Club Manager":MAILTO:tastingroom@pedernalescellars.com
END:VEVENT
END:VCALENDAR