BEGIN:VCALENDAR
VERSION:2.0
PRODID:-//Pedernales Cellars - ECPv6.15.20//NONSGML v1.0//EN
CALSCALE:GREGORIAN
METHOD:PUBLISH
X-WR-CALNAME:Pedernales Cellars
X-ORIGINAL-URL:https://www.pedernalescellars.com
X-WR-CALDESC:Events for Pedernales Cellars
REFRESH-INTERVAL;VALUE=DURATION:PT1H
X-Robots-Tag:noindex
X-PUBLISHED-TTL:PT1H
BEGIN:VTIMEZONE
TZID:UTC
BEGIN:STANDARD
TZOFFSETFROM:+0000
TZOFFSETTO:+0000
TZNAME:UTC
DTSTART:20230101T000000
END:STANDARD
END:VTIMEZONE
BEGIN:VTIMEZONE
TZID:America/Chicago
BEGIN:DAYLIGHT
TZOFFSETFROM:-0600
TZOFFSETTO:-0500
TZNAME:CDT
DTSTART:20230312T080000
END:DAYLIGHT
BEGIN:STANDARD
TZOFFSETFROM:-0500
TZOFFSETTO:-0600
TZNAME:CST
DTSTART:20231105T070000
END:STANDARD
BEGIN:DAYLIGHT
TZOFFSETFROM:-0600
TZOFFSETTO:-0500
TZNAME:CDT
DTSTART:20240310T080000
END:DAYLIGHT
BEGIN:STANDARD
TZOFFSETFROM:-0500
TZOFFSETTO:-0600
TZNAME:CST
DTSTART:20241103T070000
END:STANDARD
BEGIN:DAYLIGHT
TZOFFSETFROM:-0600
TZOFFSETTO:-0500
TZNAME:CDT
DTSTART:20250309T080000
END:DAYLIGHT
BEGIN:STANDARD
TZOFFSETFROM:-0500
TZOFFSETTO:-0600
TZNAME:CST
DTSTART:20251102T070000
END:STANDARD
END:VTIMEZONE
BEGIN:VEVENT
DTSTART;VALUE=DATE:20250118
DTEND;VALUE=DATE:20250119
DTSTAMP:20260420T010851
CREATED:20241104T190835Z
LAST-MODIFIED:20241107T222207Z
UID:10968-1737158400-1737244799@www.pedernalescellars.com
SUMMARY:The Art of Blending
DESCRIPTION:Join the winemaking team at Pedernales Cellars for a behind-the-scenes look at the blending process. David Kuhlken and Thys Smit will discuss the methodology for creating the GSM Melange\, our version of a Rhone classic through the lens of Texas terroir.\nGuests will receive samples from each of the component wines for an upcoming GSM blend. After careful consideration of the character and flavor profile of each of the 3 wines\, we invite you to play the role of winemaker for a day by creating different blends to see how they interact in differing proportions.\nTicket include light food bites\, and a logo’d Pedernales Cellars wine glass.\n					\n									Book NOW
URL:https://www.pedernalescellars.com/event/the-art-of-blending/
LOCATION:Texas
ATTACH;FMTTYPE=image/jpeg:https://www.pedernalescellars.com/wp-content/uploads/2024/10/Barrels-from-above-scaled-e1730304801739.jpg
END:VEVENT
BEGIN:VEVENT
DTSTART;VALUE=DATE:20241208
DTEND;VALUE=DATE:20241209
DTSTAMP:20260420T010851
CREATED:20240926T120011Z
LAST-MODIFIED:20241102T155444Z
UID:10844-1733616000-1733702399@www.pedernalescellars.com
SUMMARY:A Family Affair - Release Party
DESCRIPTION:Join us for ” A Family Affair” wine tasting. The Family Reserve is taking over the tasting room on Sunday\, December 8 from 10 am – 5 pm!  We will pour six different vintages of The Family Reserve: 2019\, 2020\, and the latest release 2021. We are also opening up the Wine Library to pour The Family Reserve from 2013\, 2014\, and 2015!  Do not miss the chance to taste these delicious wines that are aging beautifully. Make your reservation for the tasting today. Tastings are available on the hour and half hour. \nDecember 8 is also our birthday! JoJu bakery will be selling their awesome handmade pizzas\, including a special Birthday Pizza! \n					\n									Book Now
URL:https://www.pedernalescellars.com/event/a-family-affair-release-party/
LOCATION:Texas
ATTACH;FMTTYPE=image/jpeg:https://www.pedernalescellars.com/wp-content/uploads/2024/10/2014-and-2015-Texas-Family-Reserve-holiday-1-scaled.jpg
ORGANIZER;CN="Amy Sutton%2C Wine Club Manager":MAILTO:tastingroom@pedernalescellars.com
END:VEVENT
BEGIN:VEVENT
DTSTART;TZID=UTC:20241123T100000
DTEND;TZID=UTC:20241123T180000
DTSTAMP:20260420T010851
CREATED:20241025T235845Z
LAST-MODIFIED:20241026T150006Z
UID:10924-1732356000-1732384800@www.pedernalescellars.com
SUMMARY:Holiday Market at La Cantera
DESCRIPTION:The Pedernales Cellars Team will be at the Shops of La Cantera’s Holiday Market.  Purchase some bottles for the wine lover on your gift list and get a glass to enjoy while you shop. We will be have the Stonewall Glögg and other favorite wines!
URL:https://www.pedernalescellars.com/event/holiday-market-at-la-cantera/
LOCATION:Shops at La Cantera – San Antonio\, 15900 La Cantera Pkwy\, San Antonio\, TX\, 78256\, United States
ATTACH;FMTTYPE=image/jpeg:https://www.pedernalescellars.com/wp-content/uploads/2024/10/PXL_20231207_014215396-1-e1729882789168.jpg
END:VEVENT
BEGIN:VEVENT
DTSTART;TZID=UTC:20241102T130000
DTEND;TZID=UTC:20241102T170000
DTSTAMP:20260420T010851
CREATED:20240920T165134Z
LAST-MODIFIED:20241003T193015Z
UID:10727-1730552400-1730566800@www.pedernalescellars.com
SUMMARY:Live Music - Jeremy Parsons
DESCRIPTION:
URL:https://www.pedernalescellars.com/event/live-music-jeremy-parsons/
LOCATION:Texas
ATTACH;FMTTYPE=image/jpeg:https://www.pedernalescellars.com/wp-content/uploads/2024/09/jeremyparsons.jpg
ORGANIZER;CN="Tasting Room Team":MAILTO:tastingroom@pedernalescellars.com
END:VEVENT
BEGIN:VEVENT
DTSTART;TZID=UTC:20241102T100000
DTEND;TZID=UTC:20241102T180000
DTSTAMP:20260420T010851
CREATED:20240920T164119Z
LAST-MODIFIED:20240920T165317Z
UID:10725-1730541600-1730570400@www.pedernalescellars.com
SUMMARY:2024 Glöggfest
DESCRIPTION:Come in and enjoy this port-style wine\, infused with holiday spices\, on Saturday\, November 2nd to kick off the holiday season! \nIf you have a tasting reservation* with us\, we will bonus pour a warm sample of Glögg\, paired with a ginger snap to complete your experience. \nHave any questions? Call us at 830-644-2037 or email tastingroom@pedernalescellars.com\, we are happy to help. \n  \nReservations are required for tastings\, which are held inside our tasting room around the bar (sorry\, no pets are permitted inside). Patio and lawn seating is also available with first come first serve seating to enjoy a bottle or glass of wine.  We have a limited amount of lawn seating\, so we permit you to bring your own chairs. 
URL:https://www.pedernalescellars.com/event/2024-gloggfest/
LOCATION:Pedernales Cellars\, 2916 Upper Albert Rd\, Stonewall\, TX\, 78671\, United States
ATTACH;FMTTYPE=image/jpeg:https://www.pedernalescellars.com/wp-content/uploads/2024/09/PedernalesCellarsStonewallGloggandPumpkinsEvent.jpg
ORGANIZER;CN="Tasting Room Team":MAILTO:tastingroom@pedernalescellars.com
END:VEVENT
BEGIN:VEVENT
DTSTART;TZID=UTC:20241026T130000
DTEND;TZID=UTC:20241026T170000
DTSTAMP:20260420T010851
CREATED:20240920T163730Z
LAST-MODIFIED:20240920T163753Z
UID:10723-1729947600-1729962000@www.pedernalescellars.com
SUMMARY:Come Over October Live Music Series - Royce Reed
DESCRIPTION:Join us for a live music performance by Royce Reed while enjoying some wine in the beautiful Texas Hill Country. \nReservations are required for tastings\, which are held inside our tasting room (sorry no pets permitted inside). Patio and lawn seating is also available with first come first serve seating to enjoy a bottle. We have a limited amount of lawn seating so we do permit you to bring your own chairs. \nHave any questions? Don’t hesitate to call 830-644-2037 or email us at tastingroom@pedernalescellars.com\, we will be happy to assist you. \n 
URL:https://www.pedernalescellars.com/event/come-over-october-live-music-series-royce-reed/
LOCATION:Pedernales Cellars\, 2916 Upper Albert Rd\, Stonewall\, TX\, 78671\, United States
ATTACH;FMTTYPE=image/jpeg:https://www.pedernalescellars.com/wp-content/uploads/2024/09/roycereed.jpg
ORGANIZER;CN="Tasting Room Team":MAILTO:tastingroom@pedernalescellars.com
END:VEVENT
BEGIN:VEVENT
DTSTART;TZID=UTC:20241019T130000
DTEND;TZID=UTC:20241019T170000
DTSTAMP:20260420T010851
CREATED:20240920T163117Z
LAST-MODIFIED:20240920T163340Z
UID:10721-1729342800-1729357200@www.pedernalescellars.com
SUMMARY:Come Over October Live Music Series - Jake Martin
DESCRIPTION:Join us for a live music performance by Jake Martin while enjoying some wine in the beautiful Texas Hill Country. \nReservations are required for tastings\, which are held inside our tasting room (sorry no pets permitted inside). Patio and lawn seating is also available with first come first serve seating to enjoy a bottle. We have a limited amount of lawn seating so we do permit you to bring your own chairs. \nHave any questions? Don’t hesitate to call 830-644-2037 or email us at tastingroom@pedernalescellars.com\, we will be happy to assist you. \n 
URL:https://www.pedernalescellars.com/event/come-over-october-live-music-series-jake-martin/
LOCATION:Pedernales Cellars\, 2916 Upper Albert Rd\, Stonewall\, TX\, 78671\, United States
ATTACH;FMTTYPE=image/jpeg:https://www.pedernalescellars.com/wp-content/uploads/2024/09/jakemartin.jpg
ORGANIZER;CN="Tasting Room Team":MAILTO:tastingroom@pedernalescellars.com
END:VEVENT
BEGIN:VEVENT
DTSTART;TZID=UTC:20241012T130000
DTEND;TZID=UTC:20241012T160000
DTSTAMP:20260420T010851
CREATED:20240920T162901Z
LAST-MODIFIED:20240920T162918Z
UID:10720-1728738000-1728748800@www.pedernalescellars.com
SUMMARY:Come Over October Live Music Series - Julia Rose
DESCRIPTION:Join us for a live music performance by Julia Rose while enjoying some wine in the beautiful Texas Hill Country. \nReservations are required for tastings\, which are held inside our tasting room (sorry no pets permitted inside). Patio and lawn seating is also available with first come first serve seating to enjoy a bottle. We have a limited amount of lawn seating so we do permit you to bring your own chairs. \nHave any questions? Don’t hesitate to call 830-644-2037 or email us at tastingroom@pedernalescellars.com\, we will be happy to assist you. \n 
URL:https://www.pedernalescellars.com/event/come-over-october-live-music-series-julia-rose/
LOCATION:Pedernales Cellars\, 2916 Upper Albert Rd\, Stonewall\, TX\, 78671\, United States
ATTACH;FMTTYPE=image/jpeg:https://www.pedernalescellars.com/wp-content/uploads/2024/09/juliarose-forsite.jpg
ORGANIZER;CN="Tasting Room Team":MAILTO:tastingroom@pedernalescellars.com
END:VEVENT
BEGIN:VEVENT
DTSTART;TZID=UTC:20241005T130000
DTEND;TZID=UTC:20241005T170000
DTSTAMP:20260420T010851
CREATED:20240920T161549Z
LAST-MODIFIED:20240920T162030Z
UID:10715-1728133200-1728147600@www.pedernalescellars.com
SUMMARY:Come Over October Live Music Series - Bruce Smith
DESCRIPTION:Join us for a live music performance by Bruce Smith while enjoying some wine in the beautiful Texas Hill Country. \nReservations are required for tastings\, which are held inside our tasting room (sorry no pets permitted inside). Patio and lawn seating is also available with first come first serve seating to enjoy a bottle. We have a limited amount of lawn seating so we do permit you to bring your own chairs. \nHave any questions? Don’t hesitate to call 830-644-2037 or email us at tastingroom@pedernalescellars.com\, we will be happy to assist you.
URL:https://www.pedernalescellars.com/event/come-over-october-live-music-series-bruce-smith/
LOCATION:Pedernales Cellars\, 2916 Upper Albert Rd\, Stonewall\, TX\, 78671\, United States
ATTACH;FMTTYPE=image/jpeg:https://www.pedernalescellars.com/wp-content/uploads/2024/09/bruce-music-series.jpg
ORGANIZER;CN="Tasting Room Team":MAILTO:tastingroom@pedernalescellars.com
END:VEVENT
BEGIN:VEVENT
DTSTART;TZID=UTC:20240928T130000
DTEND;TZID=UTC:20240928T160000
DTSTAMP:20260420T010851
CREATED:20240919T234151Z
LAST-MODIFIED:20240919T234221Z
UID:10713-1727528400-1727539200@www.pedernalescellars.com
SUMMARY:Live Music Julia Rose
DESCRIPTION:Join us for a live music performance by Julia Rose while enjoying some wine in the beautiful Texas Hill Country. \nReservations are required for tastings\, which are held inside our tasting room (sorry no pets permitted inside). Patio and lawn seating is also available with first come first serve seating to enjoy a bottle. We have a limited amount of lawn seating so we do permit you to bring your own chairs.\nHave any questions? Don’t hesitate to call 830-644-2037 or email us at tastingroom@pedernalescellars.com\, we will be happy to assist you.
URL:https://www.pedernalescellars.com/event/live-music-julia-rose/
LOCATION:Pedernales Cellars\, 2916 Upper Albert Rd\, Stonewall\, TX\, 78671\, United States
ATTACH;FMTTYPE=image/jpeg:https://www.pedernalescellars.com/wp-content/uploads/2024/09/juliarose-forsite.jpg
ORGANIZER;CN="Tasting Room Team":MAILTO:tastingroom@pedernalescellars.com
END:VEVENT
BEGIN:VEVENT
DTSTART;TZID=UTC:20240928T103000
DTEND;TZID=UTC:20240928T170000
DTSTAMP:20260420T010851
CREATED:20240919T232731Z
LAST-MODIFIED:20240919T233350Z
UID:10706-1727519400-1727542800@www.pedernalescellars.com
SUMMARY:The Hunt for Hye Vinum 2024
DESCRIPTION:On September 28th\, begin an adventure unlike any other\, full of intrigue\, fun\, and lots of WINE! \nWelcome to the Hunt for Hye’rrr Vinum\, which sends our treasure-loving friends from Hye Meadow to our wonderful friends throughout Hye! The object is to bring you to each location to answer questions about each winery and to receive a “treasure” in return. When all the “treasure” is collected you will return here to Hye Meadow to show your treasure to earn a chance to get even more rewards! Each one will contain a gift certificate to all the places you visited! \nYou can get a ticket just for one\, or a ticket to include a crewmate! \nYou will be visiting each of our friends: \nBlue Lotus Winery \nPedernales Cellars \nAdega Vinho \nHilmy Cellars \nCoordinates Vineyards \nStop by Adega Vinho for lunch\, if you get hungry\, and return to Hye Meadow to enter to win even bigger prizes!
URL:https://www.pedernalescellars.com/event/the-hunt-for-hye-vinum-2024/
LOCATION:Hye Meadow\, 10257 West\, US-290\, Hye\, TX\, TX\, 78635\, United States
ATTACH;FMTTYPE=image/png:https://www.pedernalescellars.com/wp-content/uploads/2024/09/TheHuntforHyeMeadow.png
END:VEVENT
BEGIN:VEVENT
DTSTART;TZID=UTC:20240921T130000
DTEND;TZID=UTC:20240921T170000
DTSTAMP:20260420T010851
CREATED:20240919T231652Z
LAST-MODIFIED:20240919T232026Z
UID:10702-1726923600-1726938000@www.pedernalescellars.com
SUMMARY:Live Music with Jake Martin
DESCRIPTION:Join us for a live music performance by Jake Martin while enjoying some wine in the beautiful Texas Hill Country. \nReservations are required for tastings\, which are held inside our tasting room (sorry no pets permitted inside). Patio and lawn seating is also available with first come first serve seating to enjoy a bottle. We have a limited amount of lawn seating so we do permit you to bring your own chairs. \nHave any questions? Don’t hesitate to call 830-644-2037 or email us at tastingroom@pedernalescellars.com\, we will be happy to assist you.
URL:https://www.pedernalescellars.com/event/live-music-with-jake-martin/
LOCATION:Pedernales Cellars\, 2916 Upper Albert Rd\, Stonewall\, TX\, 78671\, United States
ATTACH;FMTTYPE=image/jpeg:https://www.pedernalescellars.com/wp-content/uploads/2024/09/jakemartin.jpg
ORGANIZER;CN="Tasting Room Team":MAILTO:tastingroom@pedernalescellars.com
END:VEVENT
BEGIN:VEVENT
DTSTART;VALUE=DATE:20240921
DTEND;VALUE=DATE:20240923
DTSTAMP:20260420T010851
CREATED:20240919T230329Z
LAST-MODIFIED:20240919T230832Z
UID:10700-1726876800-1727049599@www.pedernalescellars.com
SUMMARY:Seriously Texas Wine & Cheese Tasting Room Takeover
DESCRIPTION:Join us and our friends from Otto’s Cheese Shop for a fun and delicious Texas Wine and Cheese pairing! Rachel and Bob\, the owners of Otto’s Cheese Shop in New Braunfels\, are as passionate about Texas cheese as we are about Texas wine! We have paired four of our September release wines with cheeses from four different Texas cheesemakers. This is an experience you don’t want to miss! \nSaturday\, September 21 & Sunday\, September 22\n$30 / person\nWine Club Members receive a 50% discount for this experience! \nIf you have any questions\, please call us at 830-644-2037 or email events@pedernalescellars.com and we’d be happy to help!
URL:https://www.pedernalescellars.com/event/seriously-texas-wine-cheese-tasting-room-takeover/
LOCATION:Pedernales Cellars\, 2916 Upper Albert Rd\, Stonewall\, TX\, 78671\, United States
ATTACH;FMTTYPE=image/jpeg:https://www.pedernalescellars.com/wp-content/uploads/2024/09/camille-brodard-f6Wpz1QPFZI-unsplash-scaled.jpg
ORGANIZER;CN="Amy Sutton%2C Wine Club Manager":MAILTO:tastingroom@pedernalescellars.com
END:VEVENT
END:VCALENDAR