BEGIN:VCALENDAR
VERSION:2.0
PRODID:-//Pedernales Cellars - ECPv6.15.20//NONSGML v1.0//EN
CALSCALE:GREGORIAN
METHOD:PUBLISH
X-ORIGINAL-URL:https://www.pedernalescellars.com
X-WR-CALDESC:Events for Pedernales Cellars
REFRESH-INTERVAL;VALUE=DURATION:PT1H
X-Robots-Tag:noindex
X-PUBLISHED-TTL:PT1H
BEGIN:VTIMEZONE
TZID:UTC
BEGIN:STANDARD
TZOFFSETFROM:+0000
TZOFFSETTO:+0000
TZNAME:UTC
DTSTART:20240101T000000
END:STANDARD
END:VTIMEZONE
BEGIN:VEVENT
DTSTART;TZID=UTC:20250802T130000
DTEND;TZID=UTC:20250802T170000
DTSTAMP:20260419T133612
CREATED:20250506T213739Z
LAST-MODIFIED:20250725T215807Z
UID:11487-1754139600-1754154000@www.pedernalescellars.com
SUMMARY:Live Music Featuring Bruce Smith
DESCRIPTION:
URL:https://www.pedernalescellars.com/event/live-music-featuring-bruce-smith-6/
CATEGORIES:Live Music
ATTACH;FMTTYPE=image/jpeg:https://www.pedernalescellars.com/wp-content/uploads/2024/09/bruce-music-series.jpg
ORGANIZER;CN="Tasting Room Team":MAILTO:tastingroom@pedernalescellars.com
END:VEVENT
BEGIN:VEVENT
DTSTART;TZID=UTC:20250809T130000
DTEND;TZID=UTC:20250809T170000
DTSTAMP:20260419T133612
CREATED:20250506T215350Z
LAST-MODIFIED:20250725T215833Z
UID:11489-1754744400-1754758800@www.pedernalescellars.com
SUMMARY:Live Music Featuring Beth Lee
DESCRIPTION:
URL:https://www.pedernalescellars.com/event/live-music-featuring-beth-lee-3/
CATEGORIES:Live Music
ATTACH;FMTTYPE=image/jpeg:https://www.pedernalescellars.com/wp-content/uploads/2025/03/beth-lee-2-scaled-e1741464455737.jpg
ORGANIZER;CN="Tasting Room Team":MAILTO:tastingroom@pedernalescellars.com
END:VEVENT
BEGIN:VEVENT
DTSTART;TZID=UTC:20250816T130000
DTEND;TZID=UTC:20250816T170000
DTSTAMP:20260419T133612
CREATED:20250706T194831Z
LAST-MODIFIED:20250725T215900Z
UID:11564-1755349200-1755363600@www.pedernalescellars.com
SUMMARY:Live Music Featuring Jon Parmentier
DESCRIPTION:
URL:https://www.pedernalescellars.com/event/live-music-featuring-jon-parmentier-2/
CATEGORIES:Live Music
ATTACH;FMTTYPE=image/jpeg:https://www.pedernalescellars.com/wp-content/uploads/2025/07/parmentierbio-scaled-e1751831205167.jpeg
ORGANIZER;CN="Tasting Room Team":MAILTO:tastingroom@pedernalescellars.com
END:VEVENT
BEGIN:VEVENT
DTSTART;TZID=UTC:20250823T130000
DTEND;TZID=UTC:20250823T170000
DTSTAMP:20260419T133612
CREATED:20250506T221502Z
LAST-MODIFIED:20250725T215922Z
UID:11497-1755954000-1755968400@www.pedernalescellars.com
SUMMARY:Live Music Featuring Mike Wayne Country
DESCRIPTION:
URL:https://www.pedernalescellars.com/event/live-music-featuring-mike-wayne-country-3/
CATEGORIES:Live Music
ATTACH;FMTTYPE=image/jpeg:https://www.pedernalescellars.com/wp-content/uploads/2025/03/mike-wayne-country-e1741370320991.jpg
ORGANIZER;CN="Tasting Room Team":MAILTO:tastingroom@pedernalescellars.com
END:VEVENT
BEGIN:VEVENT
DTSTART;TZID=UTC:20250830T130000
DTEND;TZID=UTC:20250830T170000
DTSTAMP:20260419T133612
CREATED:20250506T221533Z
LAST-MODIFIED:20250725T215958Z
UID:11499-1756558800-1756573200@www.pedernalescellars.com
SUMMARY:Live Music Featuring Jake Martin
DESCRIPTION:
URL:https://www.pedernalescellars.com/event/live-music-featuring-jake-martin-6/
CATEGORIES:Live Music
ATTACH;FMTTYPE=image/jpeg:https://www.pedernalescellars.com/wp-content/uploads/2024/09/jakemartin.jpg
ORGANIZER;CN="Tasting Room Team":MAILTO:tastingroom@pedernalescellars.com
END:VEVENT
END:VCALENDAR