BEGIN:VCALENDAR
VERSION:2.0
PRODID:-//Pedernales Cellars - ECPv6.15.20//NONSGML v1.0//EN
CALSCALE:GREGORIAN
METHOD:PUBLISH
X-WR-CALNAME:Pedernales Cellars
X-ORIGINAL-URL:https://www.pedernalescellars.com
X-WR-CALDESC:Events for Pedernales Cellars
REFRESH-INTERVAL;VALUE=DURATION:PT1H
X-Robots-Tag:noindex
X-PUBLISHED-TTL:PT1H
BEGIN:VTIMEZONE
TZID:UTC
BEGIN:STANDARD
TZOFFSETFROM:+0000
TZOFFSETTO:+0000
TZNAME:UTC
DTSTART:20240101T000000
END:STANDARD
END:VTIMEZONE
BEGIN:VEVENT
DTSTART;TZID=UTC:20250705T130000
DTEND;TZID=UTC:20250705T170000
DTSTAMP:20260419T150549
CREATED:20250506T213119Z
LAST-MODIFIED:20250506T213119Z
UID:11479-1751720400-1751734800@www.pedernalescellars.com
SUMMARY:Live Music Featuring Bruce Smith
DESCRIPTION:Join us for a live music performance by Bruce Smith while enjoying some wine in the beautiful Texas Hill Country. \nReservations are required for tastings\, which are held inside our tasting room (sorry no pets permitted inside). Patio and lawn seating is also available with first come first serve seating to enjoy a bottle. We have a limited amount of lawn seating so we do permit you to bring your own chairs. \nHave any questions? Don’t hesitate to call 830-644-2037 or email us at tastingroom@pedernalescellars.com\, we will be happy to assist you.
URL:https://www.pedernalescellars.com/event/live-music-featuring-bruce-smith-5/
CATEGORIES:Live Music
ATTACH;FMTTYPE=image/jpeg:https://www.pedernalescellars.com/wp-content/uploads/2024/09/bruce-music-series.jpg
ORGANIZER;CN="Tasting Room Team":MAILTO:tastingroom@pedernalescellars.com
END:VEVENT
BEGIN:VEVENT
DTSTART;TZID=UTC:20250712T130000
DTEND;TZID=UTC:20250712T170000
DTSTAMP:20260419T150549
CREATED:20250506T213646Z
LAST-MODIFIED:20250506T213646Z
UID:11485-1752325200-1752339600@www.pedernalescellars.com
SUMMARY:Live Music Featuring Beth Lee
DESCRIPTION:Join us for a live music performance by Beth Lee while enjoying some wine in the beautiful Texas Hill Country. \nReservations are required for tastings\, which are held inside our tasting room (sorry no pets permitted inside). Patio and lawn seating is also available with first come first serve seating to enjoy a bottle. We have a limited amount of lawn seating so we do permit you to bring your own chairs. \nHave any questions? Don’t hesitate to call 830-644-2037 or email us at tastingroom@pedernalescellars.com\, we will be happy to assist you.
URL:https://www.pedernalescellars.com/event/live-music-featuring-beth-lee-2/
CATEGORIES:Live Music
ATTACH;FMTTYPE=image/jpeg:https://www.pedernalescellars.com/wp-content/uploads/2025/03/beth-lee-2-scaled-e1741464455737.jpg
ORGANIZER;CN="Tasting Room Team":MAILTO:tastingroom@pedernalescellars.com
END:VEVENT
BEGIN:VEVENT
DTSTART;TZID=UTC:20250719T130000
DTEND;TZID=UTC:20250719T170000
DTSTAMP:20260419T150549
CREATED:20250506T213238Z
LAST-MODIFIED:20250506T213238Z
UID:11483-1752930000-1752944400@www.pedernalescellars.com
SUMMARY:Live Music Featuring Jake Martin
DESCRIPTION:Join us for a live music performance by Jake Martin while enjoying some wine in the beautiful Texas Hill Country. \nReservations are required for tastings\, which are held inside our tasting room (sorry no pets permitted inside). Patio and lawn seating is also available with first come first serve seating to enjoy a bottle. We have a limited amount of lawn seating so we do permit you to bring your own chairs. \nHave any questions? Don’t hesitate to call 830-644-2037 or email us at tastingroom@pedernalescellars.com\, we will be happy to assist you.
URL:https://www.pedernalescellars.com/event/live-music-featuring-jake-martin-5/
CATEGORIES:Live Music
ATTACH;FMTTYPE=image/jpeg:https://www.pedernalescellars.com/wp-content/uploads/2024/09/jakemartin.jpg
ORGANIZER;CN="Tasting Room Team":MAILTO:tastingroom@pedernalescellars.com
END:VEVENT
BEGIN:VEVENT
DTSTART;TZID=UTC:20250726T130000
DTEND;TZID=UTC:20250726T170000
DTSTAMP:20260419T150549
CREATED:20250706T193945Z
LAST-MODIFIED:20250725T215707Z
UID:11561-1753534800-1753549200@www.pedernalescellars.com
SUMMARY:Live Music Featuring Jon Parmentier
DESCRIPTION:
URL:https://www.pedernalescellars.com/event/live-music-featuring-jon-parmentier/
CATEGORIES:Live Music
ATTACH;FMTTYPE=image/jpeg:https://www.pedernalescellars.com/wp-content/uploads/2025/07/parmentierbio-scaled-e1751831205167.jpeg
ORGANIZER;CN="Tasting Room Team":MAILTO:tastingroom@pedernalescellars.com
END:VEVENT
END:VCALENDAR