BEGIN:VCALENDAR
VERSION:2.0
PRODID:-//Pedernales Cellars - ECPv6.15.20//NONSGML v1.0//EN
CALSCALE:GREGORIAN
METHOD:PUBLISH
X-ORIGINAL-URL:https://www.pedernalescellars.com
X-WR-CALDESC:Events for Pedernales Cellars
REFRESH-INTERVAL;VALUE=DURATION:PT1H
X-Robots-Tag:noindex
X-PUBLISHED-TTL:PT1H
BEGIN:VTIMEZONE
TZID:UTC
BEGIN:STANDARD
TZOFFSETFROM:+0000
TZOFFSETTO:+0000
TZNAME:UTC
DTSTART:20240101T000000
END:STANDARD
END:VTIMEZONE
BEGIN:VEVENT
DTSTART;TZID=UTC:20250405T130000
DTEND;TZID=UTC:20250405T170000
DTSTAMP:20260419T193739
CREATED:20250304T215252Z
LAST-MODIFIED:20250318T145557Z
UID:11295-1743858000-1743872400@www.pedernalescellars.com
SUMMARY:Live Music Featuring Bruce Smith
DESCRIPTION:Join us for a live music performance by Bruce Smith while enjoying some wine in the beautiful Texas Hill Country. \nReservations are required for tastings\, which are held inside our tasting room (sorry no pets permitted inside). Patio and lawn seating is also available with first come first serve seating to enjoy a bottle. We have a limited amount of lawn seating so we do permit you to bring your own chairs. \nHave any questions? Don’t hesitate to call 830-644-2037 or email us at tastingroom@pedernalescellars.com\, we will be happy to assist you.
URL:https://www.pedernalescellars.com/event/live-music-featuring-bruce-smith-2/
CATEGORIES:Live Music
ATTACH;FMTTYPE=image/jpeg:https://www.pedernalescellars.com/wp-content/uploads/2024/09/bruce-music-series.jpg
ORGANIZER;CN="Tasting Room Team":MAILTO:tastingroom@pedernalescellars.com
END:VEVENT
BEGIN:VEVENT
DTSTART;TZID=UTC:20250412T130000
DTEND;TZID=UTC:20250412T170000
DTSTAMP:20260419T193739
CREATED:20250304T215358Z
LAST-MODIFIED:20250318T151052Z
UID:11297-1744462800-1744477200@www.pedernalescellars.com
SUMMARY:Live Music Featuring Jake Martin
DESCRIPTION:Join us for a live music performance by Jake Martin while enjoying some wine in the beautiful Texas Hill Country. \nReservations are required for tastings\, which are held inside our tasting room (sorry no pets permitted inside). Patio and lawn seating is also available with first come first serve seating to enjoy a bottle. We have a limited amount of lawn seating so we do permit you to bring your own chairs. \nHave any questions? Don’t hesitate to call 830-644-2037 or email us at tastingroom@pedernalescellars.com\, we will be happy to assist you.
URL:https://www.pedernalescellars.com/event/live-music-featuring-jake-martin-2/
CATEGORIES:Live Music
ATTACH;FMTTYPE=image/jpeg:https://www.pedernalescellars.com/wp-content/uploads/2024/09/jakemartin.jpg
ORGANIZER;CN="Tasting Room Team":MAILTO:tastingroom@pedernalescellars.com
END:VEVENT
BEGIN:VEVENT
DTSTART;TZID=UTC:20250419T130000
DTEND;TZID=UTC:20250419T170000
DTSTAMP:20260419T193739
CREATED:20250317T161953Z
LAST-MODIFIED:20250317T161953Z
UID:11312-1745067600-1745082000@www.pedernalescellars.com
SUMMARY:Live Music Featuring Mike Wayne Country
DESCRIPTION:Join us for a live music performance by Mike Wayne Country while enjoying some wine in the beautiful Texas Hill Country. \nReservations are required for tastings\, which are held inside our tasting room (sorry no pets permitted inside). Patio and lawn seating is also available with first come first serve seating to enjoy a bottle. We have a limited amount of lawn seating so we do permit you to bring your own chairs. \nHave any questions? Don’t hesitate to call 830-644-2037 or email us at tastingroom@pedernalescellars.com\, we will be happy to assist you.
URL:https://www.pedernalescellars.com/event/live-music-featuring-mike-wayne-country-2/
CATEGORIES:Live Music
ATTACH;FMTTYPE=image/jpeg:https://www.pedernalescellars.com/wp-content/uploads/2025/03/mike-wayne-country-e1741370320991.jpg
ORGANIZER;CN="Tasting Room Team":MAILTO:tastingroom@pedernalescellars.com
END:VEVENT
BEGIN:VEVENT
DTSTART;TZID=UTC:20250426T130000
DTEND;TZID=UTC:20250426T130000
DTSTAMP:20260419T193739
CREATED:20250304T215717Z
LAST-MODIFIED:20250304T225421Z
UID:11299-1745672400-1745672400@www.pedernalescellars.com
SUMMARY:Live Music Featuring Meghan Oberle
DESCRIPTION:Join us for a live music performance by Meghan Oberle while enjoying some wine in the beautiful Texas Hill Country. \nReservations are required for tastings\, which are held inside our tasting room (sorry no pets permitted inside). Patio and lawn seating is also available with first come first serve seating to enjoy a bottle. We have a limited amount of lawn seating so we do permit you to bring your own chairs. \nHave any questions? Don’t hesitate to call 830-644-2037 or email us at tastingroom@pedernalescellars.com\, we will be happy to assist you.
URL:https://www.pedernalescellars.com/event/live-music-featuring-meghan-oberle/
CATEGORIES:Live Music
ATTACH;FMTTYPE=image/jpeg:https://www.pedernalescellars.com/wp-content/uploads/2025/03/meghan-Oberle-e1741125412908.jpg
ORGANIZER;CN="Tasting Room Team":MAILTO:tastingroom@pedernalescellars.com
END:VEVENT
BEGIN:VEVENT
DTSTART;TZID=UTC:20250427T120000
DTEND;TZID=UTC:20250427T160000
DTSTAMP:20260419T193739
CREATED:20250318T145301Z
LAST-MODIFIED:20250318T145736Z
UID:11331-1745755200-1745769600@www.pedernalescellars.com
SUMMARY:Live Music Featuring James Hearne
DESCRIPTION:Join us for a live music performance by James Hearne while enjoying our April wine release party in the beautiful Texas Hill Country. \nHave any questions? Don’t hesitate to call 830-644-2037 or email us at tastingroom@pedernalescellars.com\, we will be happy to assist you.
URL:https://www.pedernalescellars.com/event/live-music-featuring-james-hearne/
CATEGORIES:Live Music
ATTACH;FMTTYPE=image/jpeg:https://www.pedernalescellars.com/wp-content/uploads/2025/03/james-hearne-scaled-e1742309845530.jpg
ORGANIZER;CN="Tasting Room Team":MAILTO:tastingroom@pedernalescellars.com
END:VEVENT
END:VCALENDAR