BEGIN:VCALENDAR
VERSION:2.0
PRODID:-//Pedernales Cellars - ECPv6.15.20//NONSGML v1.0//EN
CALSCALE:GREGORIAN
METHOD:PUBLISH
X-ORIGINAL-URL:https://www.pedernalescellars.com
X-WR-CALDESC:Events for Pedernales Cellars
REFRESH-INTERVAL;VALUE=DURATION:PT1H
X-Robots-Tag:noindex
X-PUBLISHED-TTL:PT1H
BEGIN:VTIMEZONE
TZID:UTC
BEGIN:STANDARD
TZOFFSETFROM:+0000
TZOFFSETTO:+0000
TZNAME:UTC
DTSTART:20240101T000000
END:STANDARD
END:VTIMEZONE
BEGIN:VEVENT
DTSTART;TZID=UTC:20250315T130000
DTEND;TZID=UTC:20250315T170000
DTSTAMP:20260419T193720
CREATED:20250308T110121Z
LAST-MODIFIED:20250308T170159Z
UID:11307-1742043600-1742058000@www.pedernalescellars.com
SUMMARY:Live Music Featuring Mike Wayne Country
DESCRIPTION:Join us for a live music performance by Mike Wayne Country while enjoying some wine in the beautiful Texas Hill Country. \nReservations are required for tastings\, which are held inside our tasting room (sorry no pets permitted inside). Patio and lawn seating is also available with first come first serve seating to enjoy a bottle. We have a limited amount of lawn seating so we do permit you to bring your own chairs. \nHave any questions? Don’t hesitate to call 830-644-2037 or email us at tastingroom@pedernalescellars.com\, we will be happy to assist you.
URL:https://www.pedernalescellars.com/event/live-music-featuring-mike-wayne-country/
LOCATION:Texas
CATEGORIES:Live Music
ATTACH;FMTTYPE=image/jpeg:https://www.pedernalescellars.com/wp-content/uploads/2025/03/mike-wayne-country-e1741370320991.jpg
ORGANIZER;CN="Tasting Room Team":MAILTO:tastingroom@pedernalescellars.com
END:VEVENT
END:VCALENDAR