BEGIN:VCALENDAR
VERSION:2.0
PRODID:-//Pedernales Cellars - ECPv6.15.20//NONSGML v1.0//EN
CALSCALE:GREGORIAN
METHOD:PUBLISH
X-ORIGINAL-URL:https://www.pedernalescellars.com
X-WR-CALDESC:Events for Pedernales Cellars
REFRESH-INTERVAL;VALUE=DURATION:PT1H
X-Robots-Tag:noindex
X-PUBLISHED-TTL:PT1H
BEGIN:VTIMEZONE
TZID:UTC
BEGIN:STANDARD
TZOFFSETFROM:+0000
TZOFFSETTO:+0000
TZNAME:UTC
DTSTART:20240101T000000
END:STANDARD
END:VTIMEZONE
BEGIN:VEVENT
DTSTART;VALUE=DATE:20250214
DTEND;VALUE=DATE:20250217
DTSTAMP:20260419T181135
CREATED:20241104T191035Z
LAST-MODIFIED:20241214T234743Z
UID:10972-1739491200-1739750399@www.pedernalescellars.com
SUMMARY:Savory\, Salty\, and Sweet- For the Love of Pairing
DESCRIPTION:Join us on Valentine’s Day weekend (Friday\, Saturday\, and Sunday\, February 14\, 15\, and 16) for a special paired tasting.  We are excited to combine our passion for exceptional 100% Texas wine with the romantic ambiance of the beautiful Pedernales views.  This year we are hosting an elevated tasting experience pairing our favorite wines with savory\, salty\, and sweet bites.  Enjoy a welcome wine and four paired wine and food samples.  Reservations are available for group sizes ranging from 2 to 6 people.\nTickets are $45. Wine Club Members receive a 20% discount.\nAll reservations will be seated and tables are reserved for 1.5 hours. After your tasting bottles and glasses can be enjoyed on our patio soaking in our view.\n \n					\n									Book Now
URL:https://www.pedernalescellars.com/event/savory-salty-and-sweet-for-the-love-of-pairing/
LOCATION:Texas
ATTACH;FMTTYPE=image/jpeg:https://www.pedernalescellars.com/wp-content/uploads/2024/10/Wine-Bouquet-scaled-e1730306058440.jpeg
ORGANIZER;CN="Tasting Room Team":MAILTO:tastingroom@pedernalescellars.com
END:VEVENT
END:VCALENDAR